BEGIN:VCALENDAR
VERSION:2.0
PRODID:-//Dalhousie Regional High School - ECPv6.15.20//NONSGML v1.0//EN
CALSCALE:GREGORIAN
METHOD:PUBLISH
X-WR-CALNAME:Dalhousie Regional High School
X-ORIGINAL-URL:https://dalhousieregional.nbed.ca
X-WR-CALDESC:Events for Dalhousie Regional High School
REFRESH-INTERVAL;VALUE=DURATION:PT1H
X-Robots-Tag:noindex
X-PUBLISHED-TTL:PT1H
BEGIN:VTIMEZONE
TZID:America/Halifax
BEGIN:DAYLIGHT
TZOFFSETFROM:-0400
TZOFFSETTO:-0300
TZNAME:ADT
DTSTART:20240310T060000
END:DAYLIGHT
BEGIN:STANDARD
TZOFFSETFROM:-0300
TZOFFSETTO:-0400
TZNAME:AST
DTSTART:20241103T050000
END:STANDARD
BEGIN:DAYLIGHT
TZOFFSETFROM:-0400
TZOFFSETTO:-0300
TZNAME:ADT
DTSTART:20250309T060000
END:DAYLIGHT
BEGIN:STANDARD
TZOFFSETFROM:-0300
TZOFFSETTO:-0400
TZNAME:AST
DTSTART:20251102T050000
END:STANDARD
BEGIN:DAYLIGHT
TZOFFSETFROM:-0400
TZOFFSETTO:-0300
TZNAME:ADT
DTSTART:20260308T060000
END:DAYLIGHT
BEGIN:STANDARD
TZOFFSETFROM:-0300
TZOFFSETTO:-0400
TZNAME:AST
DTSTART:20261101T050000
END:STANDARD
BEGIN:DAYLIGHT
TZOFFSETFROM:-0400
TZOFFSETTO:-0300
TZNAME:ADT
DTSTART:20270314T060000
END:DAYLIGHT
BEGIN:STANDARD
TZOFFSETFROM:-0300
TZOFFSETTO:-0400
TZNAME:AST
DTSTART:20271107T050000
END:STANDARD
END:VTIMEZONE
BEGIN:VEVENT
DTSTART;TZID=America/Halifax:20260218T170000
DTEND;TZID=America/Halifax:20260218T170000
DTSTAMP:20260425T222039
CREATED:20251123T163900Z
LAST-MODIFIED:20251123T163900Z
UID:2505-1771434000-1771434000@dalhousieregional.nbed.ca
SUMMARY:ML Boys Basketball Finals
DESCRIPTION:
URL:https://dalhousieregional.nbed.ca/event/ml-boys-basketball-finals/
CATEGORIES:Sports
END:VEVENT
BEGIN:VEVENT
DTSTART;TZID=America/Halifax:20260217T170000
DTEND;TZID=America/Halifax:20260217T183000
DTSTAMP:20260425T222039
CREATED:20251123T162218Z
LAST-MODIFIED:20251123T162218Z
UID:2479-1771347600-1771353000@dalhousieregional.nbed.ca
SUMMARY:ML Girls Basketball- League Finals
DESCRIPTION:
URL:https://dalhousieregional.nbed.ca/event/ml-girls-basketball-league-finals/
CATEGORIES:Sports
END:VEVENT
BEGIN:VEVENT
DTSTART;TZID=America/Halifax:20260212T170000
DTEND;TZID=America/Halifax:20260212T183000
DTSTAMP:20260425T222039
CREATED:20251123T162115Z
LAST-MODIFIED:20251123T162115Z
UID:2477-1770915600-1770921000@dalhousieregional.nbed.ca
SUMMARY:ML Girls Basketball Semi Finals
DESCRIPTION:
URL:https://dalhousieregional.nbed.ca/event/ml-girls-basketball-semi-finals/
CATEGORIES:Sports
END:VEVENT
BEGIN:VEVENT
DTSTART;TZID=America/Halifax:20260211T170000
DTEND;TZID=America/Halifax:20260211T170000
DTSTAMP:20260425T222039
CREATED:20251123T163825Z
LAST-MODIFIED:20251123T163825Z
UID:2503-1770829200-1770829200@dalhousieregional.nbed.ca
SUMMARY:ML Boys Basketball Semi Finals
DESCRIPTION:
URL:https://dalhousieregional.nbed.ca/event/ml-boys-basketball-semi-finals/
CATEGORIES:Sports
END:VEVENT
BEGIN:VEVENT
DTSTART;TZID=America/Halifax:20260210T170000
DTEND;TZID=America/Halifax:20260210T183000
DTSTAMP:20260425T222039
CREATED:20251123T161953Z
LAST-MODIFIED:20251123T161953Z
UID:2475-1770742800-1770748200@dalhousieregional.nbed.ca
SUMMARY:ML Girls Basketball- AGS @ DMS 2
DESCRIPTION:Game is at DRHS
URL:https://dalhousieregional.nbed.ca/event/ml-girls-basketball-ags-dms-2/
CATEGORIES:Sports
END:VEVENT
BEGIN:VEVENT
DTSTART;TZID=America/Halifax:20260204T170000
DTEND;TZID=America/Halifax:20260204T183000
DTSTAMP:20260425T222039
CREATED:20251123T163726Z
LAST-MODIFIED:20251123T163726Z
UID:2501-1770224400-1770229800@dalhousieregional.nbed.ca
SUMMARY:ML Boys Basketball- AGS @ DMS
DESCRIPTION:Game is at DRHS
URL:https://dalhousieregional.nbed.ca/event/ml-boys-basketball-ags-dms/
CATEGORIES:Sports
END:VEVENT
BEGIN:VEVENT
DTSTART;TZID=America/Halifax:20260203T170000
DTEND;TZID=America/Halifax:20260203T183000
DTSTAMP:20260425T222039
CREATED:20251123T161839Z
LAST-MODIFIED:20251123T161839Z
UID:2473-1770138000-1770143400@dalhousieregional.nbed.ca
SUMMARY:ML Girls Basketball-DMS 2@CMS
DESCRIPTION:Game is at CMS \n80 Arran Street Campbellton
URL:https://dalhousieregional.nbed.ca/event/ml-girls-basketball-dms-2cms/
CATEGORIES:Sports
END:VEVENT
BEGIN:VEVENT
DTSTART;TZID=America/Halifax:20260128T170000
DTEND;TZID=America/Halifax:20260128T183000
DTSTAMP:20260425T222039
CREATED:20251123T163611Z
LAST-MODIFIED:20251123T163611Z
UID:2499-1769619600-1769625000@dalhousieregional.nbed.ca
SUMMARY:ML Boys Basketball- DMS @ Galion
DESCRIPTION:Game is at Galion \n61 Dover Street Campbellton
URL:https://dalhousieregional.nbed.ca/event/ml-boys-basketball-dms-galion/
CATEGORIES:Sports
END:VEVENT
BEGIN:VEVENT
DTSTART;TZID=America/Halifax:20260128T080000
DTEND;TZID=America/Halifax:20260128T170000
DTSTAMP:20260425T222039
CREATED:20251123T162718Z
LAST-MODIFIED:20251123T162718Z
UID:2489-1769587200-1769619600@dalhousieregional.nbed.ca
SUMMARY:High School First Day of 2nd Semester
DESCRIPTION:
URL:https://dalhousieregional.nbed.ca/event/high-school-first-day-of-2nd-semester/
END:VEVENT
BEGIN:VEVENT
DTSTART;TZID=America/Halifax:20260127T170000
DTEND;TZID=America/Halifax:20260127T183000
DTSTAMP:20260425T222039
CREATED:20251123T161637Z
LAST-MODIFIED:20251123T161637Z
UID:2471-1769533200-1769538600@dalhousieregional.nbed.ca
SUMMARY:ML Girls Basketball-DMS2 @ DMS1
DESCRIPTION:
URL:https://dalhousieregional.nbed.ca/event/ml-girls-basketball-dms2-dms1/
CATEGORIES:Sports
END:VEVENT
BEGIN:VEVENT
DTSTART;TZID=America/Halifax:20260126T080000
DTEND;TZID=America/Halifax:20260127T170000
DTSTAMP:20260425T222039
CREATED:20251123T162647Z
LAST-MODIFIED:20251123T162647Z
UID:2487-1769414400-1769533200@dalhousieregional.nbed.ca
SUMMARY:High School Turn Around Days- No School (Grades 9-12)
DESCRIPTION:
URL:https://dalhousieregional.nbed.ca/event/high-school-turn-around-days-no-school-grades-9-12/
END:VEVENT
BEGIN:VEVENT
DTSTART;TZID=America/Halifax:20260120T170000
DTEND;TZID=America/Halifax:20260120T183000
DTSTAMP:20260425T222039
CREATED:20251123T161535Z
LAST-MODIFIED:20251123T161535Z
UID:2469-1768928400-1768933800@dalhousieregional.nbed.ca
SUMMARY:ML Girls Basketball- DMS1 @ AGS
DESCRIPTION:Game is at AGS \n22 Chemin Caplin\, Listuguj\, QC
URL:https://dalhousieregional.nbed.ca/event/ml-girls-basketball-dms1-ags/
CATEGORIES:Sports
END:VEVENT
BEGIN:VEVENT
DTSTART;TZID=America/Halifax:20260120T170000
DTEND;TZID=America/Halifax:20260120T183000
DTSTAMP:20260425T222039
CREATED:20251123T161342Z
LAST-MODIFIED:20251123T161342Z
UID:2467-1768928400-1768933800@dalhousieregional.nbed.ca
SUMMARY:ML Girls Basketball-CMS @DMS 2
DESCRIPTION:Game is at DRHS
URL:https://dalhousieregional.nbed.ca/event/ml-girls-basketball-cms-dms-2/
CATEGORIES:Sports
END:VEVENT
BEGIN:VEVENT
DTSTART;TZID=America/Halifax:20260119T080000
DTEND;TZID=America/Halifax:20260123T170000
DTSTAMP:20260425T222039
CREATED:20251123T162539Z
LAST-MODIFIED:20251123T162539Z
UID:2485-1768809600-1769187600@dalhousieregional.nbed.ca
SUMMARY:High School Exam Week (Grades 9-12)
DESCRIPTION:
URL:https://dalhousieregional.nbed.ca/event/high-school-exam-week-grades-9-12/
END:VEVENT
BEGIN:VEVENT
DTSTART;TZID=America/Halifax:20260113T173000
DTEND;TZID=America/Halifax:20260113T190000
DTSTAMP:20260425T222039
CREATED:20251123T161227Z
LAST-MODIFIED:20251123T161227Z
UID:2465-1768325400-1768330800@dalhousieregional.nbed.ca
SUMMARY:ML Girls Basketball- SMS @ DMS 2
DESCRIPTION:Game is at DRHS
URL:https://dalhousieregional.nbed.ca/event/ml-girls-basketball-sms-dms-2/
CATEGORIES:Sports
END:VEVENT
BEGIN:VEVENT
DTSTART;TZID=America/Halifax:20260113T160000
DTEND;TZID=America/Halifax:20260113T173000
DTSTAMP:20260425T222039
CREATED:20251123T161116Z
LAST-MODIFIED:20251123T161116Z
UID:2463-1768320000-1768325400@dalhousieregional.nbed.ca
SUMMARY:ML Girls Basketball- SMS @ DMS 1
DESCRIPTION:Game is at DRHS
URL:https://dalhousieregional.nbed.ca/event/ml-girls-basketball-sms-dms-1/
CATEGORIES:Sports
END:VEVENT
BEGIN:VEVENT
DTSTART;TZID=America/Halifax:20260107T170000
DTEND;TZID=America/Halifax:20260107T183000
DTSTAMP:20260425T222039
CREATED:20251123T163302Z
LAST-MODIFIED:20251123T163302Z
UID:2497-1767805200-1767810600@dalhousieregional.nbed.ca
SUMMARY:ML Boys Basketball- JR @ DMS
DESCRIPTION:Game is at DRHS
URL:https://dalhousieregional.nbed.ca/event/ml-boys-basketball-jr-dms/
CATEGORIES:Sports
END:VEVENT
BEGIN:VEVENT
DTSTART;TZID=America/Halifax:20260106T173000
DTEND;TZID=America/Halifax:20260106T190000
DTSTAMP:20260425T222039
CREATED:20251123T160705Z
LAST-MODIFIED:20251123T160751Z
UID:2458-1767720600-1767726000@dalhousieregional.nbed.ca
SUMMARY:ML Girls Basketball- DMS 2 @ SMS
DESCRIPTION:This game is at Superior Middle School \n560 Duke Street Bathurst
URL:https://dalhousieregional.nbed.ca/event/ml-girls-basketball-dms-2-sms/
CATEGORIES:Sports
END:VEVENT
BEGIN:VEVENT
DTSTART;TZID=America/Halifax:20260106T170000
DTEND;TZID=America/Halifax:20260106T190000
DTSTAMP:20260425T222039
CREATED:20251123T160950Z
LAST-MODIFIED:20251123T160950Z
UID:2461-1767718800-1767726000@dalhousieregional.nbed.ca
SUMMARY:ML Girls Basketball- DMS 1 @CMS
DESCRIPTION:Game is at Campbellton Middle School \n80 Arran Street Campbellton
URL:https://dalhousieregional.nbed.ca/event/ml-girls-basketball-dms-1-cms/
END:VEVENT
BEGIN:VEVENT
DTSTART;TZID=America/Halifax:20260105T080000
DTEND;TZID=America/Halifax:20260105T170000
DTSTAMP:20260425T222039
CREATED:20251123T162412Z
LAST-MODIFIED:20251123T162412Z
UID:2483-1767600000-1767632400@dalhousieregional.nbed.ca
SUMMARY:Return to school after Xmas Break
DESCRIPTION:
URL:https://dalhousieregional.nbed.ca/event/return-to-school-after-xmas-break/
END:VEVENT
BEGIN:VEVENT
DTSTART;TZID=America/Halifax:20251220T080000
DTEND;TZID=America/Halifax:20260104T170000
DTSTAMP:20260425T222039
CREATED:20251123T164037Z
LAST-MODIFIED:20251123T164037Z
UID:2507-1766217600-1767546000@dalhousieregional.nbed.ca
SUMMARY:Christmas Break
DESCRIPTION:
URL:https://dalhousieregional.nbed.ca/event/christmas-break/
CATEGORIES:No School
END:VEVENT
BEGIN:VEVENT
DTSTART;TZID=America/Halifax:20251219T080000
DTEND;TZID=America/Halifax:20251219T170000
DTSTAMP:20260425T222039
CREATED:20251123T162331Z
LAST-MODIFIED:20251123T162331Z
UID:2481-1766131200-1766163600@dalhousieregional.nbed.ca
SUMMARY:Last Day of School before Xmas Break
DESCRIPTION:
URL:https://dalhousieregional.nbed.ca/event/last-day-of-school-before-xmas-break/
END:VEVENT
BEGIN:VEVENT
DTSTART;TZID=America/Halifax:20251217T170000
DTEND;TZID=America/Halifax:20251217T183000
DTSTAMP:20260425T222039
CREATED:20251123T163210Z
LAST-MODIFIED:20251123T163210Z
UID:2495-1765990800-1765996200@dalhousieregional.nbed.ca
SUMMARY:ML Boys Basketball- Galion @ DMS
DESCRIPTION:Game is at DRHS
URL:https://dalhousieregional.nbed.ca/event/ml-boys-basketball-galion-dms/
CATEGORIES:Sports
END:VEVENT
BEGIN:VEVENT
DTSTART;TZID=America/Halifax:20251216T170000
DTEND;TZID=America/Halifax:20251216T190000
DTSTAMP:20260425T222039
CREATED:20251123T160550Z
LAST-MODIFIED:20251123T160550Z
UID:2456-1765904400-1765911600@dalhousieregional.nbed.ca
SUMMARY:ML Girls Basketball- DMS1 @DMS2
DESCRIPTION:
URL:https://dalhousieregional.nbed.ca/event/ml-girls-basketball-dms1-dms2/
CATEGORIES:Sports
END:VEVENT
BEGIN:VEVENT
DTSTART;TZID=America/Halifax:20251216T080000
DTEND;TZID=America/Halifax:20251216T170000
DTSTAMP:20260425T222039
CREATED:20251130T151514Z
LAST-MODIFIED:20251130T151514Z
UID:2530-1765872000-1765904400@dalhousieregional.nbed.ca
SUMMARY:Grade 12 career Exploration Day
DESCRIPTION:The grade 12 students will be out of the building today for career exploration.  This day is part of the career life plan required for graduation.
URL:https://dalhousieregional.nbed.ca/event/grade-12-career-exploration-day/
END:VEVENT
BEGIN:VEVENT
DTSTART;TZID=America/Halifax:20251212T130000
DTEND;TZID=America/Halifax:20251213T200000
DTSTAMP:20260425T222039
CREATED:20251123T154659Z
LAST-MODIFIED:20251123T154659Z
UID:2448-1765544400-1765656000@dalhousieregional.nbed.ca
SUMMARY:Senior Boys Christmas Classic Basketball Tournament
DESCRIPTION:
URL:https://dalhousieregional.nbed.ca/event/senior-boys-christmas-classic-basketball-tournament/
CATEGORIES:Sports
END:VEVENT
BEGIN:VEVENT
DTSTART;TZID=America/Halifax:20251212T080000
DTEND;TZID=America/Halifax:20251212T170000
DTSTAMP:20260425T222039
CREATED:20251207T142629Z
LAST-MODIFIED:20251207T142629Z
UID:2541-1765526400-1765558800@dalhousieregional.nbed.ca
SUMMARY:Green and Gold Day
DESCRIPTION:Wear your school colors
URL:https://dalhousieregional.nbed.ca/event/green-and-gold-day/
END:VEVENT
BEGIN:VEVENT
DTSTART;TZID=America/Halifax:20251211T080000
DTEND;TZID=America/Halifax:20251211T170000
DTSTAMP:20260425T222039
CREATED:20251207T142539Z
LAST-MODIFIED:20251207T142539Z
UID:2538-1765440000-1765472400@dalhousieregional.nbed.ca
SUMMARY:Grinch vs Santa Day
DESCRIPTION:Wear Green for the Grinch or Red for Santa
URL:https://dalhousieregional.nbed.ca/event/grinch-vs-santa-day/
END:VEVENT
BEGIN:VEVENT
DTSTART;TZID=America/Halifax:20251210T200000
DTEND;TZID=America/Halifax:20251210T213000
DTSTAMP:20260425T222039
CREATED:20251130T150927Z
LAST-MODIFIED:20251130T150927Z
UID:2526-1765396800-1765402200@dalhousieregional.nbed.ca
SUMMARY:HS Christmas semi formal dance
DESCRIPTION:
URL:https://dalhousieregional.nbed.ca/event/hs-christmas-semi-formal-dance/
END:VEVENT
BEGIN:VEVENT
DTSTART;TZID=America/Halifax:20251210T180000
DTEND;TZID=America/Halifax:20251210T193000
DTSTAMP:20260425T222039
CREATED:20251130T150835Z
LAST-MODIFIED:20251130T150835Z
UID:2524-1765389600-1765395000@dalhousieregional.nbed.ca
SUMMARY:ML Christmas semi formal dance
DESCRIPTION:
URL:https://dalhousieregional.nbed.ca/event/ml-christmas-semi-formal-dance/
END:VEVENT
END:VCALENDAR